Package: EnMCB Version: 1.12.0 Command: F:\biocbuild\bbs-3.17-bioc\R\bin\R.exe CMD check --no-multiarch --install=check:EnMCB.install-out.txt --library=F:\biocbuild\bbs-3.17-bioc\R\library --no-vignettes --timings EnMCB_1.12.0.tar.gz StartedAt: 2023-10-16 01:51:22 -0400 (Mon, 16 Oct 2023) EndedAt: 2023-10-16 01:54:01 -0400 (Mon, 16 Oct 2023) EllapsedTime: 159.6 seconds RetCode: 0 Status: OK CheckDir: EnMCB.Rcheck Warnings: 0