Package: EnMCB Version: 1.12.0 Command: /home/biocbuild/bbs-3.17-bioc/R/bin/R CMD INSTALL EnMCB StartedAt: 2023-10-15 15:37:18 -0400 (Sun, 15 Oct 2023) EndedAt: 2023-10-15 15:37:32 -0400 (Sun, 15 Oct 2023) EllapsedTime: 13.9 seconds RetCode: 0 Status: OK