Package: EmpiricalBrownsMethod Version: 1.28.0 Command: F:\biocbuild\bbs-3.17-bioc\R\bin\R.exe CMD INSTALL EmpiricalBrownsMethod StartedAt: 2023-10-15 15:47:03 -0400 (Sun, 15 Oct 2023) EndedAt: 2023-10-15 15:47:16 -0400 (Sun, 15 Oct 2023) EllapsedTime: 12.5 seconds RetCode: 0 Status: OK