Package: EmpiricalBrownsMethod Version: 1.28.0 Command: chmod a+r EmpiricalBrownsMethod -R && F:\biocbuild\bbs-3.17-bioc\R\bin\R.exe CMD build --keep-empty-dirs --no-resave-data EmpiricalBrownsMethod StartedAt: 2023-10-15 18:55:28 -0400 (Sun, 15 Oct 2023) EndedAt: 2023-10-15 18:55:33 -0400 (Sun, 15 Oct 2023) EllapsedTime: 5.0 seconds RetCode: 0 Status: OK PackageFile: EmpiricalBrownsMethod_1.28.0.tar.gz PackageFileSize: 38.71 KiB