Package: EmpiricalBrownsMethod Version: 1.28.0 Command: /home/biocbuild/bbs-3.17-bioc/R/bin/R CMD INSTALL EmpiricalBrownsMethod StartedAt: 2023-10-15 15:06:42 -0400 (Sun, 15 Oct 2023) EndedAt: 2023-10-15 15:06:50 -0400 (Sun, 15 Oct 2023) EllapsedTime: 7.5 seconds RetCode: 0 Status: OK