Package: EmpiricalBrownsMethod Version: 1.28.0 Command: /home/biocbuild/bbs-3.17-bioc/R/bin/R CMD check --install=check:EmpiricalBrownsMethod.install-out.txt --library=/home/biocbuild/bbs-3.17-bioc/R/site-library --timings EmpiricalBrownsMethod_1.28.0.tar.gz StartedAt: 2023-10-15 21:03:21 -0400 (Sun, 15 Oct 2023) EndedAt: 2023-10-15 21:03:36 -0400 (Sun, 15 Oct 2023) EllapsedTime: 15.0 seconds RetCode: 0 Status: OK CheckDir: EmpiricalBrownsMethod.Rcheck Warnings: 0