Package: EmpiricalBrownsMethod Version: 1.28.0 Command: /Library/Frameworks/R.framework/Resources/bin/R CMD INSTALL EmpiricalBrownsMethod StartedAt: 2023-10-15 15:03:34 -0400 (Sun, 15 Oct 2023) EndedAt: 2023-10-15 15:03:48 -0400 (Sun, 15 Oct 2023) EllapsedTime: 14.2 seconds RetCode: 0 Status: OK