Package: EmpiricalBrownsMethod Version: 1.28.0 Command: rm -rf EmpiricalBrownsMethod.buildbin-libdir && mkdir EmpiricalBrownsMethod.buildbin-libdir && /Users/biocbuild/BBS/utils/build-universal.sh EmpiricalBrownsMethod_1.28.0.tar.gz /Library/Frameworks/R.framework/Resources/bin/R EmpiricalBrownsMethod.buildbin-libdir StartedAt: 2023-10-16 09:20:40 -0400 (Mon, 16 Oct 2023) EndedAt: 2023-10-16 09:20:46 -0400 (Mon, 16 Oct 2023) EllapsedTime: 6.1 seconds RetCode: 0 Status: OK PackageFile: EmpiricalBrownsMethod_1.28.0.tgz PackageFileSize: 51.24 KiB