git_url: https://git.bioconductor.org/packages/EmpiricalBrownsMethod git_branch: RELEASE_3_17 git_last_commit: 59fc61d git_last_commit_date: 2023-04-25 10:43:43 -0400 (Tue, 25 Apr 2023) Package: EmpiricalBrownsMethod Version: 1.28.0 Maintainer: David Gibbs MaintainerEmail: dgibbs at systemsbiology.org