Package: EWCE Version: 1.8.2 Command: rm -rf EWCE.buildbin-libdir && mkdir EWCE.buildbin-libdir && F:\biocbuild\bbs-3.17-bioc\R\bin\R.exe CMD INSTALL --build --library=EWCE.buildbin-libdir EWCE_1.8.2.tar.gz StartedAt: 2023-07-07 09:26:21 -0400 (Fri, 07 Jul 2023) EndedAt: 2023-07-07 09:27:17 -0400 (Fri, 07 Jul 2023) EllapsedTime: 56.0 seconds RetCode: 0 Status: OK PackageFile: EWCE_1.8.2.zip PackageFileSize: 2.008 MiB