Package: EMDomics Version: 2.30.0 Command: /Library/Frameworks/R.framework/Resources/bin/R CMD INSTALL EMDomics StartedAt: 2023-10-15 15:21:23 -0400 (Sun, 15 Oct 2023) EndedAt: 2023-10-15 15:21:40 -0400 (Sun, 15 Oct 2023) EllapsedTime: 16.9 seconds RetCode: 0 Status: OK