Package: EMDomics Version: 2.30.0 Command: /Library/Frameworks/R.framework/Resources/bin/R CMD check --install=check:EMDomics.install-out.txt --library=/Library/Frameworks/R.framework/Resources/library --no-vignettes --timings EMDomics_2.30.0.tar.gz StartedAt: 2023-10-16 01:19:37 -0400 (Mon, 16 Oct 2023) EndedAt: 2023-10-16 01:23:12 -0400 (Mon, 16 Oct 2023) EllapsedTime: 215.7 seconds RetCode: 0 Status: OK CheckDir: EMDomics.Rcheck Warnings: 0