Package: ELMER Version: 2.24.1 Command: F:\biocbuild\bbs-3.17-bioc\R\bin\R.exe CMD INSTALL ELMER StartedAt: 2023-10-15 16:57:17 -0400 (Sun, 15 Oct 2023) EndedAt: 2023-10-15 16:58:22 -0400 (Sun, 15 Oct 2023) EllapsedTime: 65.0 seconds RetCode: 0 Status: OK