Package: ELMER Version: 2.24.1 Command: /home/biocbuild/bbs-3.17-bioc/R/bin/R CMD check --install=check:ELMER.install-out.txt --library=/home/biocbuild/bbs-3.17-bioc/R/site-library --timings ELMER_2.24.1.tar.gz StartedAt: 2023-10-15 21:03:17 -0400 (Sun, 15 Oct 2023) EndedAt: 2023-10-15 21:26:41 -0400 (Sun, 15 Oct 2023) EllapsedTime: 1404.0 seconds RetCode: 0 Status: WARNINGS CheckDir: ELMER.Rcheck Warnings: 2