Package: ELMER Version: 2.24.1 Command: /Library/Frameworks/R.framework/Resources/bin/R CMD INSTALL ELMER StartedAt: 2023-10-15 16:22:47 -0400 (Sun, 15 Oct 2023) EndedAt: 2023-10-15 16:25:38 -0400 (Sun, 15 Oct 2023) EllapsedTime: 171.0 seconds RetCode: 0 Status: OK