Package: ELMER Version: 2.24.1 Command: rm -rf ELMER.buildbin-libdir && mkdir ELMER.buildbin-libdir && /Users/biocbuild/BBS/utils/build-universal.sh ELMER_2.24.1.tar.gz /Library/Frameworks/R.framework/Resources/bin/R ELMER.buildbin-libdir StartedAt: 2023-10-02 09:35:57 -0400 (Mon, 02 Oct 2023) EndedAt: 2023-10-02 09:39:21 -0400 (Mon, 02 Oct 2023) EllapsedTime: 204.1 seconds RetCode: 0 Status: OK PackageFile: ELMER_2.24.1.tgz PackageFileSize: 39.35 MiB