Package: EGSEA Version: 1.28.0 Command: /Library/Frameworks/R.framework/Resources/bin/R CMD check --install=check:EGSEA.install-out.txt --library=/Library/Frameworks/R.framework/Resources/library --no-vignettes --timings EGSEA_1.28.0.tar.gz StartedAt: 2023-10-16 01:19:05 -0400 (Mon, 16 Oct 2023) EndedAt: 2023-10-16 01:38:41 -0400 (Mon, 16 Oct 2023) EllapsedTime: 1176.2 seconds RetCode: 0 Status: WARNINGS CheckDir: EGSEA.Rcheck Warnings: 2