Package: EGAD Version: 1.28.0 Command: F:\biocbuild\bbs-3.17-bioc\R\bin\R.exe CMD INSTALL EGAD StartedAt: 2023-10-15 16:35:38 -0400 (Sun, 15 Oct 2023) EndedAt: 2023-10-15 16:36:15 -0400 (Sun, 15 Oct 2023) EllapsedTime: 37.3 seconds RetCode: 0 Status: OK