Package: EGAD Version: 1.28.0 Command: F:\biocbuild\bbs-3.17-bioc\R\bin\R.exe CMD check --no-multiarch --install=check:EGAD.install-out.txt --library=F:\biocbuild\bbs-3.17-bioc\R\library --no-vignettes --timings EGAD_1.28.0.tar.gz StartedAt: 2023-10-16 01:48:57 -0400 (Mon, 16 Oct 2023) EndedAt: 2023-10-16 01:50:14 -0400 (Mon, 16 Oct 2023) EllapsedTime: 76.5 seconds RetCode: 0 Status: WARNINGS CheckDir: EGAD.Rcheck Warnings: 1