Package: EGAD Version: 1.28.0 Command: chmod a+r EGAD -R && F:\biocbuild\bbs-3.17-bioc\R\bin\R.exe CMD build --keep-empty-dirs --no-resave-data EGAD StartedAt: 2023-10-15 18:54:12 -0400 (Sun, 15 Oct 2023) EndedAt: 2023-10-15 18:54:19 -0400 (Sun, 15 Oct 2023) EllapsedTime: 7.0 seconds RetCode: 0 Status: OK PackageFile: EGAD_1.28.0.tar.gz PackageFileSize: 14.57 MiB