Package: EGAD Version: 1.28.0 Command: rm -rf EGAD.buildbin-libdir && mkdir EGAD.buildbin-libdir && F:\biocbuild\bbs-3.17-bioc\R\bin\R.exe CMD INSTALL --build --library=EGAD.buildbin-libdir EGAD_1.28.0.tar.gz StartedAt: 2023-10-16 08:44:48 -0400 (Mon, 16 Oct 2023) EndedAt: 2023-10-16 08:45:26 -0400 (Mon, 16 Oct 2023) EllapsedTime: 37.7 seconds RetCode: 0 Status: OK PackageFile: EGAD_1.28.0.zip PackageFileSize: 36.75 MiB