Package: EGAD Version: 1.28.0 Command: /home/biocbuild/bbs-3.17-bioc/R/bin/R CMD check --install=check:EGAD.install-out.txt --library=/home/biocbuild/bbs-3.17-bioc/R/site-library --timings EGAD_1.28.0.tar.gz StartedAt: 2023-10-15 21:02:51 -0400 (Sun, 15 Oct 2023) EndedAt: 2023-10-15 21:03:49 -0400 (Sun, 15 Oct 2023) EllapsedTime: 58.3 seconds RetCode: 0 Status: WARNINGS CheckDir: EGAD.Rcheck Warnings: 1