Package: EGAD Version: 1.28.0 Command: /Library/Frameworks/R.framework/Resources/bin/R CMD INSTALL EGAD StartedAt: 2023-10-15 15:58:25 -0400 (Sun, 15 Oct 2023) EndedAt: 2023-10-15 15:59:30 -0400 (Sun, 15 Oct 2023) EllapsedTime: 64.9 seconds RetCode: 0 Status: OK