Package: EGAD Version: 1.28.0 Command: /Library/Frameworks/R.framework/Resources/bin/R CMD check --install=check:EGAD.install-out.txt --library=/Library/Frameworks/R.framework/Resources/library --no-vignettes --timings EGAD_1.28.0.tar.gz StartedAt: 2023-10-16 01:19:00 -0400 (Mon, 16 Oct 2023) EndedAt: 2023-10-16 01:21:53 -0400 (Mon, 16 Oct 2023) EllapsedTime: 173.5 seconds RetCode: 0 Status: WARNINGS CheckDir: EGAD.Rcheck Warnings: 1