Package: EDIRquery Version: 1.0.0 Command: /home/biocbuild/bbs-3.17-bioc/R/bin/R CMD INSTALL EDIRquery StartedAt: 2023-10-15 15:12:37 -0400 (Sun, 15 Oct 2023) EndedAt: 2023-10-15 15:13:04 -0400 (Sun, 15 Oct 2023) EllapsedTime: 26.5 seconds RetCode: 0 Status: OK