Package: EDASeq Version: 2.34.0 Command: chmod a+r EDASeq -R && F:\biocbuild\bbs-3.17-bioc\R\bin\R.exe CMD build --keep-empty-dirs --no-resave-data EDASeq StartedAt: 2023-10-15 18:53:30 -0400 (Sun, 15 Oct 2023) EndedAt: 2023-10-15 18:55:27 -0400 (Sun, 15 Oct 2023) EllapsedTime: 117.0 seconds RetCode: 0 Status: OK PackageFile: EDASeq_2.34.0.tar.gz PackageFileSize: 569.6 KiB