Package: EDASeq Version: 2.34.0 Command: /Library/Frameworks/R.framework/Resources/bin/R CMD INSTALL EDASeq StartedAt: 2023-10-15 15:35:57 -0400 (Sun, 15 Oct 2023) EndedAt: 2023-10-15 15:38:07 -0400 (Sun, 15 Oct 2023) EllapsedTime: 130.6 seconds RetCode: 0 Status: OK