Package: EBarrays Version: 2.64.0 Command: /Library/Frameworks/R.framework/Resources/bin/R CMD INSTALL EBarrays StartedAt: 2023-10-15 15:04:40 -0400 (Sun, 15 Oct 2023) EndedAt: 2023-10-15 15:05:55 -0400 (Sun, 15 Oct 2023) EllapsedTime: 75.1 seconds RetCode: 0 Status: OK