Package: EBarrays Version: 2.64.0 Command: /Library/Frameworks/R.framework/Resources/bin/R CMD check --install=check:EBarrays.install-out.txt --library=/Library/Frameworks/R.framework/Resources/library --no-vignettes --timings EBarrays_2.64.0.tar.gz StartedAt: 2023-10-16 01:16:11 -0400 (Mon, 16 Oct 2023) EndedAt: 2023-10-16 01:18:03 -0400 (Mon, 16 Oct 2023) EllapsedTime: 111.8 seconds RetCode: 0 Status: OK CheckDir: EBarrays.Rcheck Warnings: 0