Package: EBSeqHMM Version: 1.34.0 Command: chmod a+r EBSeqHMM -R && F:\biocbuild\bbs-3.17-bioc\R\bin\R.exe CMD build --keep-empty-dirs --no-resave-data EBSeqHMM StartedAt: 2023-10-15 18:53:18 -0400 (Sun, 15 Oct 2023) EndedAt: 2023-10-15 18:53:41 -0400 (Sun, 15 Oct 2023) EllapsedTime: 22.2 seconds RetCode: 0 Status: OK PackageFile: EBSeqHMM_1.34.0.tar.gz PackageFileSize: 1.366 MiB