Package: EBSeqHMM Version: 1.34.0 Command: rm -rf EBSeqHMM.buildbin-libdir && mkdir EBSeqHMM.buildbin-libdir && /Users/biocbuild/BBS/utils/build-universal.sh EBSeqHMM_1.34.0.tar.gz /Library/Frameworks/R.framework/Resources/bin/R EBSeqHMM.buildbin-libdir StartedAt: 2023-10-16 09:20:04 -0400 (Mon, 16 Oct 2023) EndedAt: 2023-10-16 09:20:34 -0400 (Mon, 16 Oct 2023) EllapsedTime: 29.9 seconds RetCode: 0 Status: OK PackageFile: EBSeqHMM_1.34.0.tgz PackageFileSize: 1.163 MiB