Package: EBImage Version: 4.42.0 Command: F:\biocbuild\bbs-3.17-bioc\R\bin\R.exe CMD INSTALL EBImage StartedAt: 2023-10-15 16:20:11 -0400 (Sun, 15 Oct 2023) EndedAt: 2023-10-15 16:20:39 -0400 (Sun, 15 Oct 2023) EllapsedTime: 28.5 seconds RetCode: 0 Status: OK