Package: EBImage Version: 4.42.0 Command: F:\biocbuild\bbs-3.17-bioc\R\bin\R.exe CMD check --no-multiarch --install=check:EBImage.install-out.txt --library=F:\biocbuild\bbs-3.17-bioc\R\library --no-vignettes --timings EBImage_4.42.0.tar.gz StartedAt: 2023-10-16 01:46:50 -0400 (Mon, 16 Oct 2023) EndedAt: 2023-10-16 01:48:25 -0400 (Mon, 16 Oct 2023) EllapsedTime: 94.8 seconds RetCode: 0 Status: OK CheckDir: EBImage.Rcheck Warnings: 0