Package: EBImage Version: 4.42.0 Command: chmod a+r EBImage -R && F:\biocbuild\bbs-3.17-bioc\R\bin\R.exe CMD build --keep-empty-dirs --no-resave-data EBImage StartedAt: 2023-10-15 18:53:06 -0400 (Sun, 15 Oct 2023) EndedAt: 2023-10-15 18:53:54 -0400 (Sun, 15 Oct 2023) EllapsedTime: 48.2 seconds RetCode: 0 Status: OK PackageFile: EBImage_4.42.0.tar.gz PackageFileSize: 5.205 MiB