Package: EBImage Version: 4.42.0 Command: rm -rf EBImage.buildbin-libdir && mkdir EBImage.buildbin-libdir && F:\biocbuild\bbs-3.17-bioc\R\bin\R.exe CMD INSTALL --build --library=EBImage.buildbin-libdir EBImage_4.42.0.tar.gz StartedAt: 2023-10-16 08:44:28 -0400 (Mon, 16 Oct 2023) EndedAt: 2023-10-16 08:45:01 -0400 (Mon, 16 Oct 2023) EllapsedTime: 32.4 seconds RetCode: 0 Status: OK PackageFile: EBImage_4.42.0.zip PackageFileSize: 5.86 MiB