Package: EBImage Version: 4.42.0 Command: /home/biocbuild/bbs-3.17-bioc/R/bin/R CMD build --keep-empty-dirs --no-resave-data EBImage StartedAt: 2023-10-15 16:40:37 -0400 (Sun, 15 Oct 2023) EndedAt: 2023-10-15 16:41:23 -0400 (Sun, 15 Oct 2023) EllapsedTime: 46.3 seconds RetCode: 0 Status: OK PackageFile: EBImage_4.42.0.tar.gz PackageFileSize: 5.21 MiB