Package: EBImage Version: 4.42.0 Command: /Library/Frameworks/R.framework/Resources/bin/R CMD check --install=check:EBImage.install-out.txt --library=/Library/Frameworks/R.framework/Resources/library --no-vignettes --timings EBImage_4.42.0.tar.gz StartedAt: 2023-10-16 01:16:24 -0400 (Mon, 16 Oct 2023) EndedAt: 2023-10-16 01:19:06 -0400 (Mon, 16 Oct 2023) EllapsedTime: 162.4 seconds RetCode: 0 Status: OK CheckDir: EBImage.Rcheck Warnings: 0