Package: EBImage Version: 4.42.0 Command: /Library/Frameworks/R.framework/Resources/bin/R CMD build --keep-empty-dirs --no-resave-data EBImage StartedAt: 2023-10-15 18:06:42 -0400 (Sun, 15 Oct 2023) EndedAt: 2023-10-15 18:07:55 -0400 (Sun, 15 Oct 2023) EllapsedTime: 73.4 seconds RetCode: 0 Status: OK PackageFile: EBImage_4.42.0.tar.gz PackageFileSize: 5.218 MiB