Package: EBImage Version: 4.42.0 Command: rm -rf EBImage.buildbin-libdir && mkdir EBImage.buildbin-libdir && /Users/biocbuild/BBS/utils/build-universal.sh EBImage_4.42.0.tar.gz /Library/Frameworks/R.framework/Resources/bin/R EBImage.buildbin-libdir StartedAt: 2023-10-16 09:19:59 -0400 (Mon, 16 Oct 2023) EndedAt: 2023-10-16 09:20:45 -0400 (Mon, 16 Oct 2023) EllapsedTime: 45.8 seconds RetCode: 0 Status: OK PackageFile: EBImage_4.42.0.tgz PackageFileSize: 5.574 MiB