Package: DynDoc Version: 1.78.0 Command: F:\biocbuild\bbs-3.17-bioc\R\bin\R.exe CMD check --no-multiarch --install=check:DynDoc.install-out.txt --library=F:\biocbuild\bbs-3.17-bioc\R\library --no-vignettes --timings DynDoc_1.78.0.tar.gz StartedAt: 2023-10-16 01:45:22 -0400 (Mon, 16 Oct 2023) EndedAt: 2023-10-16 01:45:45 -0400 (Mon, 16 Oct 2023) EllapsedTime: 23.0 seconds RetCode: 0 Status: OK CheckDir: DynDoc.Rcheck Warnings: 0