Package: DynDoc Version: 1.78.0 Command: rm -rf DynDoc.buildbin-libdir && mkdir DynDoc.buildbin-libdir && F:\biocbuild\bbs-3.17-bioc\R\bin\R.exe CMD INSTALL --build --library=DynDoc.buildbin-libdir DynDoc_1.78.0.tar.gz StartedAt: 2023-10-16 08:44:17 -0400 (Mon, 16 Oct 2023) EndedAt: 2023-10-16 08:44:25 -0400 (Mon, 16 Oct 2023) EllapsedTime: 8.2 seconds RetCode: 0 Status: OK PackageFile: DynDoc_1.78.0.zip PackageFileSize: 211.9 KiB