Package: Dune Version: 1.12.0 Command: /home/biocbuild/bbs-3.17-bioc/R/bin/R CMD INSTALL Dune StartedAt: 2023-10-15 15:16:24 -0400 (Sun, 15 Oct 2023) EndedAt: 2023-10-15 15:16:47 -0400 (Sun, 15 Oct 2023) EllapsedTime: 22.9 seconds RetCode: 0 Status: OK