Package: Dune Version: 1.12.0 Command: /home/biocbuild/bbs-3.17-bioc/R/bin/R CMD check --install=check:Dune.install-out.txt --library=/home/biocbuild/bbs-3.17-bioc/R/site-library --timings Dune_1.12.0.tar.gz StartedAt: 2023-10-15 20:59:35 -0400 (Sun, 15 Oct 2023) EndedAt: 2023-10-15 21:04:08 -0400 (Sun, 15 Oct 2023) EllapsedTime: 273.7 seconds RetCode: 0 Status: OK CheckDir: Dune.Rcheck Warnings: 0