Package: Dune Version: 1.12.0 Command: /home/biocbuild/bbs-3.17-bioc/R/bin/R CMD build --keep-empty-dirs --no-resave-data Dune StartedAt: 2023-10-15 16:40:04 -0400 (Sun, 15 Oct 2023) EndedAt: 2023-10-15 16:40:43 -0400 (Sun, 15 Oct 2023) EllapsedTime: 39.0 seconds RetCode: 0 Status: OK PackageFile: Dune_1.12.0.tar.gz PackageFileSize: 1.992 MiB