Package: Dune Version: 1.12.0 Command: /Library/Frameworks/R.framework/Resources/bin/R CMD INSTALL Dune StartedAt: 2023-10-15 15:20:47 -0400 (Sun, 15 Oct 2023) EndedAt: 2023-10-15 15:21:59 -0400 (Sun, 15 Oct 2023) EllapsedTime: 72.1 seconds RetCode: 0 Status: OK