############################################################################## ############################################################################## ### ### Running command: ### ### /Library/Frameworks/R.framework/Resources/bin/R CMD check --install=check:Dune.install-out.txt --library=/Library/Frameworks/R.framework/Resources/library --no-vignettes --timings Dune_1.12.0.tar.gz ### ############################################################################## ############################################################################## * using log directory ‘/Users/biocbuild/bbs-3.17-bioc/meat/Dune.Rcheck’ * using R version 4.3.1 (2023-06-16) * using platform: x86_64-apple-darwin20 (64-bit) * R was compiled by Apple clang version 14.0.3 (clang-1403.0.22.14.1) GNU Fortran (GCC) 12.2.0 * running under: macOS Monterey 12.6.4 * using session charset: UTF-8 * using option ‘--no-vignettes’ * checking for file ‘Dune/DESCRIPTION’ ... OK * this is package ‘Dune’ version ‘1.12.0’ * package encoding: UTF-8 * checking package namespace information ... OK * checking package dependencies ... OK * checking if this is a source package ... OK * checking if there is a namespace ... OK * checking for hidden files and directories ... OK * checking for portable file names ... OK * checking for sufficient/correct file permissions ... OK * checking whether package ‘Dune’ can be installed ... OK * checking installed package size ... OK * checking package directory ... OK * checking ‘build’ directory ... OK * checking DESCRIPTION meta-information ... OK * checking top-level files ... OK * checking for left-over files ... OK * checking index information ... OK * checking package subdirectories ... OK * checking R files for non-ASCII characters ... OK * checking R files for syntax errors ... OK * checking whether the package can be loaded ... OK * checking whether the package can be loaded with stated dependencies ... OK * checking whether the package can be unloaded cleanly ... OK * checking whether the namespace can be loaded with stated dependencies ... OK * checking whether the namespace can be unloaded cleanly ... OK * checking startup messages can be suppressed ... OK * checking dependencies in R code ... NOTE package 'methods' is used but not declared * checking S3 generic/method consistency ... OK * checking replacement functions ... OK * checking foreign function calls ... OK * checking R code for possible problems ... NOTE .metricTrend: no visible binding for global variable ‘.’ .metricTrend: no visible binding for global variable ‘step’ .metricTrend: no visible binding for global variable ‘change’ .metricTrend: no visible binding for global variable ‘value’ .plotMetric: no visible binding for global variable ‘label2’ .plotMetric: no visible binding for global variable ‘metric’ .plotMetric: no visible binding for global variable ‘label1’ ARIImp : f: no visible binding for global variable ‘cells’ ConfusionEvolution : : no visible binding for global variable ‘Freq’ ConfusionEvolution : : no visible binding for global variable ‘total_x’ ConfusionEvolution : : no visible binding for global variable ‘total_y’ ConfusionEvolution: no visible binding for global variable ‘overlap’ ConfusionEvolution: no visible binding for global variable ‘Freq’ ConfusionEvolution: no visible binding for global variable ‘step’ ConfusionPlot: no visible binding for global variable ‘Freq’ ConfusionPlot: no visible binding for global variable ‘total_x’ ConfusionPlot: no visible binding for global variable ‘total_y’ ConfusionPlot: no visible binding for global variable ‘overlap’ NMIImp : f: no visible binding for global variable ‘cells’ intermediateMat: no visible binding for global variable ‘cells’ plotPrePost: no visible binding for global variable ‘Nb’ Undefined global functions or variables: . Freq Nb cells change label1 label2 metric overlap step total_x total_y value Consider adding importFrom("stats", "step") to your NAMESPACE file. * checking Rd files ... OK * checking Rd metadata ... OK * checking Rd cross-references ... OK * checking for missing documentation entries ... OK * checking for code/documentation mismatches ... OK * checking Rd \usage sections ... OK * checking Rd contents ... OK * checking for unstated dependencies in examples ... OK * checking contents of ‘data’ directory ... OK * checking data for non-ASCII characters ... OK * checking LazyData ... OK * checking data for ASCII and uncompressed saves ... OK * checking files in ‘vignettes’ ... OK * checking examples ... OK Examples with CPU (user + system) or elapsed time > 5s user system elapsed Dune 18.057 0.062 24.155 ARItrend 12.159 0.115 16.159 ARIImp 11.001 0.217 15.230 plotARIs 10.849 0.064 14.933 NMItrend 10.629 0.067 15.007 plotNMIs 10.604 0.047 14.229 functionTracking 10.354 0.055 14.886 plotPrePost 10.347 0.045 13.769 whenToStop 10.008 0.061 13.492 intermediateMat 10.007 0.040 13.713 clusterConversion 9.970 0.063 14.681 NMIImp 9.935 0.069 13.654 * checking for unstated dependencies in ‘tests’ ... OK * checking tests ... Running ‘testthat.R’ OK * checking for unstated dependencies in vignettes ... OK * checking package vignettes in ‘inst/doc’ ... OK * checking running R code from vignettes ... SKIPPED * checking re-building of vignette outputs ... SKIPPED * checking PDF version of manual ... OK * DONE Status: 2 NOTEs See ‘/Users/biocbuild/bbs-3.17-bioc/meat/Dune.Rcheck/00check.log’ for details.