Package: Dune Version: 1.12.0 Command: /Library/Frameworks/R.framework/Resources/bin/R CMD build --keep-empty-dirs --no-resave-data Dune StartedAt: 2023-10-15 18:05:38 -0400 (Sun, 15 Oct 2023) EndedAt: 2023-10-15 18:07:10 -0400 (Sun, 15 Oct 2023) EllapsedTime: 92.0 seconds RetCode: 0 Status: OK PackageFile: Dune_1.12.0.tar.gz PackageFileSize: 2.034 MiB