Package: DrugVsDisease Version: 2.42.0 Command: F:\biocbuild\bbs-3.17-bioc\R\bin\R.exe CMD check --no-multiarch --install=check:DrugVsDisease.install-out.txt --library=F:\biocbuild\bbs-3.17-bioc\R\library --no-vignettes --timings DrugVsDisease_2.42.0.tar.gz StartedAt: 2023-10-16 01:43:41 -0400 (Mon, 16 Oct 2023) EndedAt: 2023-10-16 01:46:15 -0400 (Mon, 16 Oct 2023) EllapsedTime: 153.6 seconds RetCode: 0 Status: OK CheckDir: DrugVsDisease.Rcheck Warnings: 0