Package: DrugVsDisease Version: 2.42.0 Command: /home/biocbuild/bbs-3.17-bioc/R/bin/R CMD INSTALL DrugVsDisease StartedAt: 2023-10-15 15:21:42 -0400 (Sun, 15 Oct 2023) EndedAt: 2023-10-15 15:22:16 -0400 (Sun, 15 Oct 2023) EllapsedTime: 33.9 seconds RetCode: 0 Status: OK