Package: DrugVsDisease Version: 2.42.0 Command: /Library/Frameworks/R.framework/Resources/bin/R CMD check --install=check:DrugVsDisease.install-out.txt --library=/Library/Frameworks/R.framework/Resources/library --no-vignettes --timings DrugVsDisease_2.42.0.tar.gz StartedAt: 2023-10-16 01:11:39 -0400 (Mon, 16 Oct 2023) EndedAt: 2023-10-16 01:18:11 -0400 (Mon, 16 Oct 2023) EllapsedTime: 392.7 seconds RetCode: 0 Status: OK CheckDir: DrugVsDisease.Rcheck Warnings: 0